BEGIN:VCALENDAR
VERSION:2.0
PRODID:-//商人舎 - ECPv3.7//NONSGML v1.0//EN
CALSCALE:GREGORIAN
METHOD:PUBLISH
X-WR-CALNAME:商人舎
X-ORIGINAL-URL:http://www.shoninsha.co.jp
X-WR-CALDESC:Events for 商人舎
X-WR-TIMEZONE:Asia/Tokyo
BEGIN:VEVENT
DTSTART;VALUE=DATE:20150310
DTEND;VALUE=DATE:20150311
DTSTAMP:20260423T113931
CREATED:20150302T113513
LAST-MODIFIED:20150302T113513
UID:38235-1425945600-1426032000@http://www.shoninsha.co.jp
SUMMARY:月刊『商人舎』3月号発刊
DESCRIPTION:
URL:http://www.shoninsha.co.jp/event/%e6%9c%88%e5%88%8a%e3%80%8e%e5%95%86%e4%ba%ba%e8%88%8e%e3%80%8f3%e6%9c%88%e5%8f%b7%e7%99%ba%e5%88%8a/
END:VEVENT
BEGIN:VEVENT
DTSTART;VALUE=DATE-TIME:20150310T130000
DTEND;VALUE=DATE-TIME:20150310T150000
DTSTAMP:20260423T113931
CREATED:20150201T181315
LAST-MODIFIED:20150206T103418
UID:37103-1425992400-1425999600@http://www.shoninsha.co.jp
SUMMARY:電通講演
DESCRIPTION:
URL:http://www.shoninsha.co.jp/event/%e9%9b%bb%e9%80%9a%e8%ac%9b%e6%bc%94-2/
LOCATION:電通本社
END:VEVENT
BEGIN:VEVENT
DTSTART;VALUE=DATE-TIME:
DTEND;VALUE=DATE-TIME:
DTSTAMP:20260423T113931
CREATED:0
LAST-MODIFIED:0
UID:0--@http://www.shoninsha.co.jp
SUMMARY:
DESCRIPTION:
URL:
END:VEVENT
END:VCALENDAR