BEGIN:VCALENDAR
VERSION:2.0
PRODID:-//商人舎 - ECPv3.7//NONSGML v1.0//EN
CALSCALE:GREGORIAN
METHOD:PUBLISH
X-WR-CALNAME:商人舎
X-ORIGINAL-URL:http://www.shoninsha.co.jp
X-WR-CALDESC:Events for 商人舎
X-WR-TIMEZONE:Asia/Tokyo
BEGIN:VEVENT
DTSTART;VALUE=DATE-TIME:20150313T100000
DTEND;VALUE=DATE-TIME:20150315T170000
DTSTAMP:20260423T114330
CREATED:20150302T111524
LAST-MODIFIED:20150302T111524
UID:38224-1426240800-1426438800@http://www.shoninsha.co.jp
SUMMARY:第15回 JAPANドラッグストアショー2015
DESCRIPTION:
URL:http://www.shoninsha.co.jp/event/%e7%ac%ac15%e5%9b%9e-japan%e3%83%89%e3%83%a9%e3%83%83%e3%82%b0%e3%82%b9%e3%83%88%e3%82%a2%e3%82%b7%e3%83%a7%e3%83%bc2015/
END:VEVENT
BEGIN:VEVENT
DTSTART;VALUE=DATE-TIME:20150313T160000
DTEND;VALUE=DATE-TIME:20150313T193000
DTSTAMP:20260423T114330
CREATED:20150302T111030
LAST-MODIFIED:20150302T111132
UID:38223-1426262400-1426275000@http://www.shoninsha.co.jp
SUMMARY:学習院マネジメントスクール最終講義
DESCRIPTION:◇日時：2015年3月13日（金）  16：00～18：00講演会  18：15～19：30懇親会  ◇会場：講演会　学習院大学 南3号館 201教室  懇親会　輔仁会館西館（学生食堂）  ◇講演者：アマゾンジャパン株式会社　代表取締役社長　ジャスパー・チャン
URL:http://www.shoninsha.co.jp/event/%e5%ad%a6%e7%bf%92%e9%99%a2%e3%83%9e%e3%83%8d%e3%82%b8%e3%83%a1%e3%83%b3%e3%83%88%e3%82%b9%e3%82%af%e3%83%bc%e3%83%ab%e6%9c%80%e7%b5%82%e8%ac%9b%e7%be%a9/
END:VEVENT
BEGIN:VEVENT
DTSTART;VALUE=DATE-TIME:
DTEND;VALUE=DATE-TIME:
DTSTAMP:20260423T114330
CREATED:0
LAST-MODIFIED:0
UID:0--@http://www.shoninsha.co.jp
SUMMARY:
DESCRIPTION:
URL:
END:VEVENT
END:VCALENDAR