BEGIN:VCALENDAR
VERSION:2.0
PRODID:-//商人舎 - ECPv3.7//NONSGML v1.0//EN
CALSCALE:GREGORIAN
METHOD:PUBLISH
X-WR-CALNAME:商人舎
X-ORIGINAL-URL:http://www.shoninsha.co.jp
X-WR-CALDESC:Events for 商人舎
X-WR-TIMEZONE:Asia/Tokyo
BEGIN:VEVENT
DTSTART;VALUE=DATE:20150415
DTEND;VALUE=DATE:20150424
DTSTAMP:20260423T101133
CREATED:20150302T114947
LAST-MODIFIED:20150302T115031
UID:38245-1429056000-1429833600@http://www.shoninsha.co.jp
SUMMARY:商人舎ヨーロッパ研修会
DESCRIPTION:ヨーロッパ情勢不安定につき、中止となりました。悪しからず。
URL:http://www.shoninsha.co.jp/event/%e5%95%86%e4%ba%ba%e8%88%8e%e3%83%a8%e3%83%bc%e3%83%ad%e3%83%83%e3%83%91%e7%a0%94%e4%bf%ae%e4%bc%9a/
END:VEVENT
BEGIN:VEVENT
DTSTART;VALUE=DATE-TIME:20150420T150000
DTEND;VALUE=DATE-TIME:20150420T183000
DTSTAMP:20260423T101133
CREATED:20150302T113725
LAST-MODIFIED:20150302T113725
UID:38237-1429542000-1429554600@http://www.shoninsha.co.jp
SUMMARY:ワンアジア財団理事会評議員会
DESCRIPTION:
URL:http://www.shoninsha.co.jp/event/%e3%83%af%e3%83%b3%e3%82%a2%e3%82%b8%e3%82%a2%e8%b2%a1%e5%9b%a3%e7%90%86%e4%ba%8b%e4%bc%9a%e8%a9%95%e8%ad%b0%e5%93%a1%e4%bc%9a/
END:VEVENT
BEGIN:VEVENT
DTSTART;VALUE=DATE-TIME:
DTEND;VALUE=DATE-TIME:
DTSTAMP:20260423T101133
CREATED:0
LAST-MODIFIED:0
UID:0--@http://www.shoninsha.co.jp
SUMMARY:
DESCRIPTION:
URL:
END:VEVENT
END:VCALENDAR