BEGIN:VCALENDAR
VERSION:2.0
PRODID:-//商人舎 - ECPv3.7//NONSGML v1.0//EN
CALSCALE:GREGORIAN
METHOD:PUBLISH
X-WR-CALNAME:商人舎
X-ORIGINAL-URL:http://www.shoninsha.co.jp
X-WR-CALDESC:Events for 商人舎
X-WR-TIMEZONE:Asia/Tokyo
BEGIN:VEVENT
DTSTART;VALUE=DATE:20150518
DTEND;VALUE=DATE:20150525
DTSTAMP:20260423T084511
CREATED:20150302T114414
LAST-MODIFIED:20150302T114414
UID:38244-1431907200-1432512000@http://www.shoninsha.co.jp
SUMMARY:平和堂アメリカ研修会
DESCRIPTION:
URL:http://www.shoninsha.co.jp/event/%e5%b9%b3%e5%92%8c%e5%a0%82%e3%82%a2%e3%83%a1%e3%83%aa%e3%82%ab%e7%a0%94%e4%bf%ae%e4%bc%9a/
END:VEVENT
BEGIN:VEVENT
DTSTART;VALUE=DATE-TIME:20150519T144500
DTEND;VALUE=DATE-TIME:20150519T170000
DTSTAMP:20260423T084511
CREATED:20150511T111331
LAST-MODIFIED:20150511T111356
UID:39953-1432046700-1432054800@http://www.shoninsha.co.jp
SUMMARY:財団法人流通問題研究協会創立50周年記念式典
DESCRIPTION:
URL:http://www.shoninsha.co.jp/event/%e8%b2%a1%e5%9b%a3%e6%b3%95%e4%ba%ba%e6%b5%81%e9%80%9a%e5%95%8f%e9%a1%8c%e7%a0%94%e7%a9%b6%e5%8d%94%e4%bc%9a%e5%89%b5%e7%ab%8b40%e5%91%a8%e5%b9%b4%e8%a8%98%e5%bf%b5%e5%bc%8f%e5%85%b8/
END:VEVENT
BEGIN:VEVENT
DTSTART;VALUE=DATE-TIME:
DTEND;VALUE=DATE-TIME:
DTSTAMP:20260423T084511
CREATED:0
LAST-MODIFIED:0
UID:0--@http://www.shoninsha.co.jp
SUMMARY:
DESCRIPTION:
URL:
END:VEVENT
END:VCALENDAR