BEGIN:VCALENDAR
VERSION:2.0
PRODID:-//商人舎 - ECPv3.7//NONSGML v1.0//EN
CALSCALE:GREGORIAN
METHOD:PUBLISH
X-WR-CALNAME:商人舎
X-ORIGINAL-URL:http://www.shoninsha.co.jp
X-WR-CALDESC:Events for 商人舎
X-WR-TIMEZONE:Asia/Tokyo
BEGIN:VEVENT
DTSTART;VALUE=DATE-TIME:20150617T130000
DTEND;VALUE=DATE-TIME:20150617T150000
DTSTAMP:20260423T071921
CREATED:20150413T141814
LAST-MODIFIED:20150413T141814
UID:39373-1434546000-1434553200@http://www.shoninsha.co.jp
SUMMARY:イオンビジネススクール開講講座
DESCRIPTION:
URL:http://www.shoninsha.co.jp/event/%e3%82%a4%e3%82%aa%e3%83%b3%e3%83%93%e3%82%b8%e3%83%8d%e3%82%b9%e3%82%b9%e3%82%af%e3%83%bc%e3%83%ab%e9%96%8b%e8%ac%9b%e8%ac%9b%e5%ba%a7/
END:VEVENT
BEGIN:VEVENT
DTSTART;VALUE=DATE-TIME:20150617T150000
DTEND;VALUE=DATE-TIME:20150617T170000
DTSTAMP:20260423T071921
CREATED:20150413T141913
LAST-MODIFIED:20150413T141913
UID:39375-1434553200-1434560400@http://www.shoninsha.co.jp
SUMMARY:イオンアメリカ研修事前学習会
DESCRIPTION:
URL:http://www.shoninsha.co.jp/event/%e3%82%a4%e3%82%aa%e3%83%b3%e3%82%a2%e3%83%a1%e3%83%aa%e3%82%ab%e7%a0%94%e4%bf%ae%e4%ba%8b%e5%89%8d%e5%ad%a6%e7%bf%92%e4%bc%9a/
END:VEVENT
BEGIN:VEVENT
DTSTART;VALUE=DATE-TIME:
DTEND;VALUE=DATE-TIME:
DTSTAMP:20260423T071921
CREATED:0
LAST-MODIFIED:0
UID:0--@http://www.shoninsha.co.jp
SUMMARY:
DESCRIPTION:
URL:
END:VEVENT
END:VCALENDAR