BEGIN:VCALENDAR
VERSION:2.0
PRODID:-//商人舎 - ECPv3.7//NONSGML v1.0//EN
CALSCALE:GREGORIAN
METHOD:PUBLISH
X-WR-CALNAME:商人舎
X-ORIGINAL-URL:http://www.shoninsha.co.jp
X-WR-CALDESC:Events for 商人舎
X-WR-TIMEZONE:Asia/Tokyo
BEGIN:VEVENT
DTSTART;VALUE=DATE:20150928
DTEND;VALUE=DATE:20150929
DTSTAMP:20260423T030454
CREATED:20150511T113443
LAST-MODIFIED:20150511T154415
UID:39958-1443398400-1443484800@http://www.shoninsha.co.jp
SUMMARY:商業界ゼミナール福岡大会基調講演
DESCRIPTION:
URL:http://www.shoninsha.co.jp/event/%e5%95%86%e6%a5%ad%e7%95%8c%e3%82%bc%e3%83%9f%e3%83%8a%e3%83%bc%e3%83%ab%e7%a6%8f%e5%b2%a1%e5%a4%a7%e4%bc%9a%e5%9f%ba%e8%aa%bf%e8%ac%9b%e6%bc%94/
END:VEVENT
BEGIN:VEVENT
DTSTART;VALUE=DATE:20150928
DTEND;VALUE=DATE:20150929
DTSTAMP:20260423T030454
CREATED:20151117T200926
LAST-MODIFIED:20151117T200926
UID:47195-1443398400-1443484800@http://www.shoninsha.co.jp
SUMMARY:商業界九州ゼミナール福岡大会講演
DESCRIPTION:
URL:http://www.shoninsha.co.jp/event/%e5%95%86%e6%a5%ad%e7%95%8c%e4%b9%9d%e5%b7%9e%e3%82%bc%e3%83%9f%e3%83%8a%e3%83%bc%e3%83%ab%e7%a6%8f%e5%b2%a1%e5%a4%a7%e4%bc%9a%e8%ac%9b%e6%bc%94/
END:VEVENT
BEGIN:VEVENT
DTSTART;VALUE=DATE-TIME:
DTEND;VALUE=DATE-TIME:
DTSTAMP:20260423T030454
CREATED:0
LAST-MODIFIED:0
UID:0--@http://www.shoninsha.co.jp
SUMMARY:
DESCRIPTION:
URL:
END:VEVENT
END:VCALENDAR