BEGIN:VCALENDAR
VERSION:2.0
PRODID:-//商人舎 - ECPv3.7//NONSGML v1.0//EN
CALSCALE:GREGORIAN
METHOD:PUBLISH
X-WR-CALNAME:商人舎
X-ORIGINAL-URL:http://www.shoninsha.co.jp
X-WR-CALDESC:Events for 商人舎
X-WR-TIMEZONE:Asia/Tokyo
BEGIN:VEVENT
DTSTART;VALUE=DATE-TIME:20151028T100000
DTEND;VALUE=DATE-TIME:20151028T120000
DTSTAMP:20260423T014901
CREATED:20151117T203520
LAST-MODIFIED:20151117T203520
UID:47207-1446026400-1446033600@http://www.shoninsha.co.jp
SUMMARY:CCL役員会
DESCRIPTION:
URL:http://www.shoninsha.co.jp/event/ccl%e5%bd%b9%e5%93%a1%e4%bc%9a/
LOCATION:CCL本社
END:VEVENT
BEGIN:VEVENT
DTSTART;VALUE=DATE-TIME:20151028T170000
DTEND;VALUE=DATE-TIME:20151029T160000
DTSTAMP:20260423T014901
CREATED:20151117T204146
LAST-MODIFIED:20151117T204146
UID:47212-1446051600-1446134400@http://www.shoninsha.co.jp
SUMMARY:ドクターズ研修会
DESCRIPTION:
URL:http://www.shoninsha.co.jp/event/%e3%83%89%e3%82%af%e3%82%bf%e3%83%bc%e3%82%ba%e7%a0%94%e4%bf%ae%e4%bc%9a-2/
END:VEVENT
BEGIN:VEVENT
DTSTART;VALUE=DATE-TIME:
DTEND;VALUE=DATE-TIME:
DTSTAMP:20260423T014901
CREATED:0
LAST-MODIFIED:0
UID:0--@http://www.shoninsha.co.jp
SUMMARY:
DESCRIPTION:
URL:
END:VEVENT
END:VCALENDAR