BEGIN:VCALENDAR
VERSION:2.0
PRODID:-//商人舎 - ECPv3.7//NONSGML v1.0//EN
CALSCALE:GREGORIAN
METHOD:PUBLISH
X-WR-CALNAME:商人舎
X-ORIGINAL-URL:http://www.shoninsha.co.jp
X-WR-CALDESC:Events for 商人舎
X-WR-TIMEZONE:Asia/Tokyo
BEGIN:VEVENT
DTSTART;VALUE=DATE:20151107
DTEND;VALUE=DATE:20151114
DTSTAMP:20260423T002630
CREATED:20151117T204012
LAST-MODIFIED:20151117T204012
UID:47211-1446854400-1447459200@http://www.shoninsha.co.jp
SUMMARY:万代DD会アメリカ研修会
DESCRIPTION:
URL:http://www.shoninsha.co.jp/event/%e4%b8%87%e4%bb%a3dd%e4%bc%9a%e3%82%a2%e3%83%a1%e3%83%aa%e3%82%ab%e7%a0%94%e4%bf%ae%e4%bc%9a/
END:VEVENT
BEGIN:VEVENT
DTSTART;VALUE=DATE:20151110
DTEND;VALUE=DATE:20151111
DTSTAMP:20260423T002630
CREATED:20151117T203831
LAST-MODIFIED:20151117T203831
UID:47210-1447113600-1447200000@http://www.shoninsha.co.jp
SUMMARY:月刊『商人舎』11月号発売
DESCRIPTION:
URL:http://www.shoninsha.co.jp/event/%e6%9c%88%e5%88%8a%e3%80%8e%e5%95%86%e4%ba%ba%e8%88%8e%e3%80%8f11%e6%9c%88%e5%8f%b7%e7%99%ba%e5%a3%b2/
END:VEVENT
BEGIN:VEVENT
DTSTART;VALUE=DATE-TIME:
DTEND;VALUE=DATE-TIME:
DTSTAMP:20260423T002630
CREATED:0
LAST-MODIFIED:0
UID:0--@http://www.shoninsha.co.jp
SUMMARY:
DESCRIPTION:
URL:
END:VEVENT
END:VCALENDAR