BEGIN:VCALENDAR
VERSION:2.0
PRODID:-//商人舎 - ECPv3.7//NONSGML v1.0//EN
CALSCALE:GREGORIAN
METHOD:PUBLISH
X-WR-CALNAME:商人舎
X-ORIGINAL-URL:http://www.shoninsha.co.jp
X-WR-CALDESC:Events for 商人舎
X-WR-TIMEZONE:Asia/Tokyo
BEGIN:VEVENT
DTSTART;VALUE=DATE-TIME:20160308T170000
DTEND;VALUE=DATE-TIME:20160309T170000
DTSTAMP:20260422T175840
CREATED:20151117T210728
LAST-MODIFIED:20151221T161618
UID:47231-1457456400-1457542800@http://www.shoninsha.co.jp
SUMMARY:ドクターズ研修会
DESCRIPTION:
URL:http://www.shoninsha.co.jp/event/%e3%83%89%e3%82%af%e3%82%bf%e3%83%bc%e3%82%ba%e7%a0%94%e4%bf%ae%e4%bc%9a-3/
LOCATION:千葉
END:VEVENT
BEGIN:VEVENT
DTSTART;VALUE=DATE-TIME:20160309T150000
DTEND;VALUE=DATE-TIME:20160309T170000
DTSTAMP:20260422T175840
CREATED:20160301T115458
LAST-MODIFIED:20160301T115458
UID:50877-1457535600-1457542800@http://www.shoninsha.co.jp
SUMMARY:イオン環境財団25周年記念講演会
DESCRIPTION:
URL:http://www.shoninsha.co.jp/event/%e3%82%a4%e3%82%aa%e3%83%b3%e7%92%b0%e5%a2%83%e8%b2%a1%e5%9b%a325%e5%91%a8%e5%b9%b4%e8%a8%98%e5%bf%b5%e8%ac%9b%e6%bc%94%e4%bc%9a/
END:VEVENT
BEGIN:VEVENT
DTSTART;VALUE=DATE-TIME:
DTEND;VALUE=DATE-TIME:
DTSTAMP:20260422T175840
CREATED:0
LAST-MODIFIED:0
UID:0--@http://www.shoninsha.co.jp
SUMMARY:
DESCRIPTION:
URL:
END:VEVENT
END:VCALENDAR