BEGIN:VCALENDAR
VERSION:2.0
PRODID:-//商人舎 - ECPv3.7//NONSGML v1.0//EN
CALSCALE:GREGORIAN
METHOD:PUBLISH
X-WR-CALNAME:商人舎
X-ORIGINAL-URL:http://www.shoninsha.co.jp
X-WR-CALDESC:Events for 商人舎
X-WR-TIMEZONE:Asia/Tokyo
BEGIN:VEVENT
DTSTART;VALUE=DATE:20160310
DTEND;VALUE=DATE:20160311
DTSTAMP:20260422T175644
CREATED:20160217T163241
LAST-MODIFIED:20160217T163241
UID:50252-1457568000-1457654400@http://www.shoninsha.co.jp
SUMMARY:月刊『商人舎』3月号発売
DESCRIPTION:
URL:http://www.shoninsha.co.jp/event/%e6%9c%88%e5%88%8a%e3%80%8e%e5%95%86%e4%ba%ba%e8%88%8e%e3%80%8f3%e6%9c%88%e5%8f%b7%e7%99%ba%e5%a3%b2/
END:VEVENT
BEGIN:VEVENT
DTSTART;VALUE=DATE-TIME:20160310T160000
DTEND;VALUE=DATE-TIME:20160311T170000
DTSTAMP:20260422T175644
CREATED:20151221T161554
LAST-MODIFIED:20151221T161554
UID:48647-1457625600-1457715600@http://www.shoninsha.co.jp
SUMMARY:第一屋製パン懇親会
DESCRIPTION:
URL:http://www.shoninsha.co.jp/event/%e7%ac%ac%e4%b8%80%e5%b1%8b%e8%a3%bd%e3%83%91%e3%83%b3%e6%87%87%e8%a6%aa%e4%bc%9a/
END:VEVENT
BEGIN:VEVENT
DTSTART;VALUE=DATE-TIME:
DTEND;VALUE=DATE-TIME:
DTSTAMP:20260422T175644
CREATED:0
LAST-MODIFIED:0
UID:0--@http://www.shoninsha.co.jp
SUMMARY:
DESCRIPTION:
URL:
END:VEVENT
END:VCALENDAR