BEGIN:VCALENDAR
VERSION:2.0
PRODID:-//商人舎 - ECPv3.7//NONSGML v1.0//EN
CALSCALE:GREGORIAN
METHOD:PUBLISH
X-WR-CALNAME:商人舎
X-ORIGINAL-URL:http://www.shoninsha.co.jp
X-WR-CALDESC:Events for 商人舎
X-WR-TIMEZONE:Asia/Tokyo
BEGIN:VEVENT
DTSTART;VALUE=DATE:20160425
DTEND;VALUE=DATE:20160503
DTSTAMP:20260422T162104
CREATED:20160301T120316
LAST-MODIFIED:20160301T121203
UID:50880-1461542400-1462233600@http://www.shoninsha.co.jp
SUMMARY:【入稿】月刊商人舎2016年5月号
DESCRIPTION:
URL:http://www.shoninsha.co.jp/event/%e6%9c%88%e5%88%8a%e5%95%86%e4%ba%ba%e8%88%8e2016%e5%b9%b45%e6%9c%88%e5%8f%b7%e5%85%a5%e7%a8%bf/
END:VEVENT
BEGIN:VEVENT
DTSTART;VALUE=DATE-TIME:20160427T080000
DTEND;VALUE=DATE-TIME:20160427T170000
DTSTAMP:20260422T162104
CREATED:20160525T150036
LAST-MODIFIED:20160427T145602
UID:52706-1461744000-1461776400@http://www.shoninsha.co.jp
SUMMARY:一般社団法人流通問題研究協会総会記念講演
DESCRIPTION:
URL:http://www.shoninsha.co.jp/event/%e4%b8%80%e8%88%ac%e7%a4%be%e5%9b%a3%e6%b3%95%e4%ba%ba%e6%b5%81%e9%80%9a%e5%95%8f%e9%a1%8c%e7%a0%94%e7%a9%b6%e5%8d%94%e4%bc%9a%e7%b7%8f%e4%bc%9a%e8%a8%98%e5%bf%b5%e8%ac%9b%e6%bc%94/
END:VEVENT
BEGIN:VEVENT
DTSTART;VALUE=DATE-TIME:
DTEND;VALUE=DATE-TIME:
DTSTAMP:20260422T162104
CREATED:0
LAST-MODIFIED:0
UID:0--@http://www.shoninsha.co.jp
SUMMARY:
DESCRIPTION:
URL:
END:VEVENT
END:VCALENDAR