BEGIN:VCALENDAR
VERSION:2.0
PRODID:-//商人舎 - ECPv3.7//NONSGML v1.0//EN
CALSCALE:GREGORIAN
METHOD:PUBLISH
X-WR-CALNAME:商人舎
X-ORIGINAL-URL:http://www.shoninsha.co.jp
X-WR-CALDESC:Events for 商人舎
X-WR-TIMEZONE:Asia/Tokyo
BEGIN:VEVENT
DTSTART;VALUE=DATE:20160525
DTEND;VALUE=DATE:20160603
DTSTAMP:20260422T132927
CREATED:20160301T120749
LAST-MODIFIED:20160316T115946
UID:50881-1464134400-1464912000@http://www.shoninsha.co.jp
SUMMARY:【入稿】月刊商人舎2016年6月号
DESCRIPTION:
URL:http://www.shoninsha.co.jp/event/%e3%80%90%e5%85%a5%e7%a8%bf%e3%80%91%e6%9c%88%e5%88%8a%e5%95%86%e4%ba%ba%e8%88%8e2016%e5%b9%b46%e6%9c%88%e5%8f%b7/
END:VEVENT
BEGIN:VEVENT
DTSTART;VALUE=DATE-TIME:20160602T143000
DTEND;VALUE=DATE-TIME:20160602T190000
DTSTAMP:20260422T132927
CREATED:20160601T173757
LAST-MODIFIED:20160601T173757
UID:54129-1464877800-1464894000@http://www.shoninsha.co.jp
SUMMARY:ボランタリーチェーン協会創立50周年記念大会
DESCRIPTION:14：30～式典  15：40～記念講演　中小企業庁長官　豊永厚志さま    17：30～　懇親会
URL:http://www.shoninsha.co.jp/event/%e3%83%9c%e3%83%a9%e3%83%b3%e3%82%bf%e3%83%aa%e3%83%bc%e3%83%81%e3%82%a7%e3%83%bc%e3%83%b3%e5%8d%94%e4%bc%9a%e5%89%b5%e7%ab%8b50%e5%91%a8%e5%b9%b4%e8%a8%98%e5%bf%b5%e5%a4%a7%e4%bc%9a/
END:VEVENT
BEGIN:VEVENT
DTSTART;VALUE=DATE-TIME:
DTEND;VALUE=DATE-TIME:
DTSTAMP:20260422T132927
CREATED:0
LAST-MODIFIED:0
UID:0--@http://www.shoninsha.co.jp
SUMMARY:
DESCRIPTION:
URL:
END:VEVENT
END:VCALENDAR