BEGIN:VCALENDAR
VERSION:2.0
PRODID:-//商人舎 - ECPv3.7//NONSGML v1.0//EN
CALSCALE:GREGORIAN
METHOD:PUBLISH
X-WR-CALNAME:商人舎
X-ORIGINAL-URL:http://www.shoninsha.co.jp
X-WR-CALDESC:Events for 商人舎
X-WR-TIMEZONE:Asia/Tokyo
BEGIN:VEVENT
DTSTART;VALUE=DATE:20160624
DTEND;VALUE=DATE:20160702
DTSTAMP:20260422T133127
CREATED:20160316T120608
LAST-MODIFIED:20160316T120608
UID:51241-1466726400-1467417600@http://www.shoninsha.co.jp
SUMMARY:【入稿】月刊商人舎2016年7月号
DESCRIPTION:
URL:http://www.shoninsha.co.jp/event/%e3%80%90%e5%85%a5%e7%a8%bf%e3%80%91%e6%9c%88%e5%88%8a%e5%95%86%e4%ba%ba%e8%88%8e2016%e5%b9%b47%e6%9c%88%e5%8f%b7/
END:VEVENT
BEGIN:VEVENT
DTSTART;VALUE=DATE-TIME:20160627T130000
DTEND;VALUE=DATE-TIME:20160627T170000
DTSTAMP:20260422T133127
CREATED:20160601T174110
LAST-MODIFIED:20160601T174110
UID:54135-1467032400-1467046800@http://www.shoninsha.co.jp
SUMMARY:Ｄ会議
DESCRIPTION:
URL:http://www.shoninsha.co.jp/event/%ef%bd%84%e4%bc%9a%e8%ad%b0/
END:VEVENT
BEGIN:VEVENT
DTSTART;VALUE=DATE-TIME:20160627T180000
DTEND;VALUE=DATE-TIME:20160627T200000
DTSTAMP:20260422T133127
CREATED:20160601T174633
LAST-MODIFIED:20160614T142450
UID:54141-1467050400-1467057600@http://www.shoninsha.co.jp
SUMMARY:日本バナナ輸入組合50周年記念式典
DESCRIPTION:
URL:http://www.shoninsha.co.jp/event/%e6%97%a5%e6%9c%ac%e3%83%90%e3%83%8a%e3%83%8a%e8%bc%b8%e5%85%a5%e7%b5%84%e5%90%8850%e5%91%a8%e5%b9%b4%e8%a8%98%e5%bf%b5%e5%bc%8f%e5%85%b8/
END:VEVENT
BEGIN:VEVENT
DTSTART;VALUE=DATE-TIME:
DTEND;VALUE=DATE-TIME:
DTSTAMP:20260422T133127
CREATED:0
LAST-MODIFIED:0
UID:0--@http://www.shoninsha.co.jp
SUMMARY:
DESCRIPTION:
URL:
END:VEVENT
END:VCALENDAR