BEGIN:VCALENDAR
VERSION:2.0
PRODID:-//商人舎 - ECPv3.7//NONSGML v1.0//EN
CALSCALE:GREGORIAN
METHOD:PUBLISH
X-WR-CALNAME:商人舎
X-ORIGINAL-URL:http://www.shoninsha.co.jp
X-WR-CALDESC:Events for 商人舎
X-WR-TIMEZONE:Asia/Tokyo
BEGIN:VEVENT
DTSTART;VALUE=DATE:20160725
DTEND;VALUE=DATE:20160802
DTSTAMP:20260422T120036
CREATED:20160316T131514
LAST-MODIFIED:20160316T131514
UID:51243-1469404800-1470096000@http://www.shoninsha.co.jp
SUMMARY:【入稿】月刊商人舎8月号
DESCRIPTION:
URL:http://www.shoninsha.co.jp/event/%e3%80%90%e5%85%a5%e7%a8%bf%e3%80%91%e6%9c%88%e5%88%8a%e5%95%86%e4%ba%ba%e8%88%8e8%e6%9c%88%e5%8f%b7/
END:VEVENT
BEGIN:VEVENT
DTSTART;VALUE=DATE-TIME:20160727T190000
DTEND;VALUE=DATE-TIME:20160727T203000
DTSTAMP:20260422T120036
CREATED:20160721T174023
LAST-MODIFIED:20160721T174023
UID:56066-1469646000-1469651400@http://www.shoninsha.co.jp
SUMMARY:イオン記者懇親会
DESCRIPTION:
URL:http://www.shoninsha.co.jp/event/%e3%82%a4%e3%82%aa%e3%83%b3%e8%a8%98%e8%80%85%e6%87%87%e8%a6%aa%e4%bc%9a/
END:VEVENT
BEGIN:VEVENT
DTSTART;VALUE=DATE-TIME:
DTEND;VALUE=DATE-TIME:
DTSTAMP:20260422T120036
CREATED:0
LAST-MODIFIED:0
UID:0--@http://www.shoninsha.co.jp
SUMMARY:
DESCRIPTION:
URL:
END:VEVENT
END:VCALENDAR