BEGIN:VCALENDAR
VERSION:2.0
PRODID:-//商人舎 - ECPv3.7//NONSGML v1.0//EN
CALSCALE:GREGORIAN
METHOD:PUBLISH
X-WR-CALNAME:商人舎
X-ORIGINAL-URL:http://www.shoninsha.co.jp
X-WR-CALDESC:Events for 商人舎
X-WR-TIMEZONE:Asia/Tokyo
BEGIN:VEVENT
DTSTART;VALUE=DATE:20160826
DTEND;VALUE=DATE:20160903
DTSTAMP:20260422T103236
CREATED:20160316T132123
LAST-MODIFIED:20160316T132123
UID:51251-1472169600-1472860800@http://www.shoninsha.co.jp
SUMMARY:【入稿】月刊商人舎9月号
DESCRIPTION:
URL:http://www.shoninsha.co.jp/event/%e3%80%90%e5%85%a5%e7%a8%bf%e3%80%91%e6%9c%88%e5%88%8a%e5%95%86%e4%ba%ba%e8%88%8e9%e6%9c%88%e5%8f%b7/
END:VEVENT
BEGIN:VEVENT
DTSTART;VALUE=DATE-TIME:20160826T130000
DTEND;VALUE=DATE-TIME:20160826T190000
DTSTAMP:20260422T103236
CREATED:20160721T174337
LAST-MODIFIED:20160721T174337
UID:56068-1472216400-1472238000@http://www.shoninsha.co.jp
SUMMARY:UAゼンセン流通部会・労使懇談会
DESCRIPTION:13-17時　労使懇談会  17-19時　立食パーティ
URL:http://www.shoninsha.co.jp/event/ua%e3%82%bc%e3%83%b3%e3%82%bb%e3%83%b3%e6%b5%81%e9%80%9a%e9%83%a8%e4%bc%9a%e3%83%bb%e5%8a%b4%e4%bd%bf%e6%87%87%e8%ab%87%e4%bc%9a/
END:VEVENT
BEGIN:VEVENT
DTSTART;VALUE=DATE-TIME:
DTEND;VALUE=DATE-TIME:
DTSTAMP:20260422T103236
CREATED:0
LAST-MODIFIED:0
UID:0--@http://www.shoninsha.co.jp
SUMMARY:
DESCRIPTION:
URL:
END:VEVENT
END:VCALENDAR