BEGIN:VCALENDAR
VERSION:2.0
PRODID:-//商人舎 - ECPv3.7//NONSGML v1.0//EN
CALSCALE:GREGORIAN
METHOD:PUBLISH
X-WR-CALNAME:商人舎
X-ORIGINAL-URL:http://www.shoninsha.co.jp
X-WR-CALDESC:Events for 商人舎
X-WR-TIMEZONE:Asia/Tokyo
BEGIN:VEVENT
DTSTART;VALUE=DATE-TIME:20161207T090000
DTEND;VALUE=DATE-TIME:20161207T123000
DTSTAMP:20260422T041705
CREATED:20161201T142847
LAST-MODIFIED:20161201T142847
UID:61348-1481101200-1481113800@http://www.shoninsha.co.jp
SUMMARY:万代知識商人大学アメリカ研修報告会
DESCRIPTION:会場　アゴーラリージェンシー堺
URL:http://www.shoninsha.co.jp/event/%e4%b8%87%e4%bb%a3%e7%9f%a5%e8%ad%98%e5%95%86%e4%ba%ba%e5%a4%a7%e5%ad%a6%e3%82%a2%e3%83%a1%e3%83%aa%e3%82%ab%e7%a0%94%e4%bf%ae%e5%a0%b1%e5%91%8a%e4%bc%9a/
END:VEVENT
BEGIN:VEVENT
DTSTART;VALUE=DATE-TIME:20161207T130000
DTEND;VALUE=DATE-TIME:20161207T200000
DTSTAMP:20260422T041705
CREATED:20160316T135459
LAST-MODIFIED:20161201T143105
UID:51276-1481115600-1481140800@http://www.shoninsha.co.jp
SUMMARY:万代ドライデイリー会総会　
DESCRIPTION:第15回アメリカ研究会報告講演    会場　アゴラリージェンシー堺
URL:http://www.shoninsha.co.jp/event/mdd%e7%b7%8f%e4%bc%9a/
END:VEVENT
BEGIN:VEVENT
DTSTART;VALUE=DATE-TIME:
DTEND;VALUE=DATE-TIME:
DTSTAMP:20260422T041705
CREATED:0
LAST-MODIFIED:0
UID:0--@http://www.shoninsha.co.jp
SUMMARY:
DESCRIPTION:
URL:
END:VEVENT
END:VCALENDAR