BEGIN:VCALENDAR
VERSION:2.0
PRODID:-//商人舎 - ECPv3.7//NONSGML v1.0//EN
CALSCALE:GREGORIAN
METHOD:PUBLISH
X-WR-CALNAME:商人舎
X-ORIGINAL-URL:http://www.shoninsha.co.jp
X-WR-CALDESC:Events for 商人舎
X-WR-TIMEZONE:Asia/Tokyo
BEGIN:VEVENT
DTSTART;VALUE=DATE:20170117
DTEND;VALUE=DATE:20170127
DTSTAMP:20260422T054748
CREATED:20160721T180603
LAST-MODIFIED:20161201T145318
UID:56086-1484611200-1485475200@http://www.shoninsha.co.jp
SUMMARY:ロピア アメリカ研修会
DESCRIPTION:ニューヨーク
URL:http://www.shoninsha.co.jp/event/%e3%83%ad%e3%83%94%e3%82%a2%e3%82%a2%e3%83%a1%e3%83%aa%e3%82%ab%e7%a0%94%e4%bf%ae%e4%bc%9a-2/
END:VEVENT
BEGIN:VEVENT
DTSTART;VALUE=DATE-TIME:20170118T130000
DTEND;VALUE=DATE-TIME:20170118T170000
DTSTAMP:20260422T054748
CREATED:20161202T143003
LAST-MODIFIED:20161202T143003
UID:61390-1484744400-1484758800@http://www.shoninsha.co.jp
SUMMARY:セルコグループトップ会
DESCRIPTION:
URL:http://www.shoninsha.co.jp/event/%e3%82%bb%e3%83%ab%e3%82%b3%e3%82%b0%e3%83%ab%e3%83%bc%e3%83%97%e3%83%88%e3%83%83%e3%83%97%e4%bc%9a-3/
END:VEVENT
BEGIN:VEVENT
DTSTART;VALUE=DATE-TIME:
DTEND;VALUE=DATE-TIME:
DTSTAMP:20260422T054748
CREATED:0
LAST-MODIFIED:0
UID:0--@http://www.shoninsha.co.jp
SUMMARY:
DESCRIPTION:
URL:
END:VEVENT
END:VCALENDAR