BEGIN:VCALENDAR
VERSION:2.0
PRODID:-//商人舎 - ECPv3.7//NONSGML v1.0//EN
CALSCALE:GREGORIAN
METHOD:PUBLISH
X-WR-CALNAME:商人舎
X-ORIGINAL-URL:http://www.shoninsha.co.jp
X-WR-CALDESC:Events for 商人舎
X-WR-TIMEZONE:Asia/Tokyo
BEGIN:VEVENT
DTSTART;VALUE=DATE-TIME:20170427T100000
DTEND;VALUE=DATE-TIME:20170427T120000
DTSTAMP:20260422T101016
CREATED:20170224T105928
LAST-MODIFIED:20170224T105928
UID:64327-1493287200-1493294400@http://www.shoninsha.co.jp
SUMMARY:カスタマーコミュニケーションズ役員会
DESCRIPTION:
URL:http://www.shoninsha.co.jp/event/%e3%82%ab%e3%82%b9%e3%82%bf%e3%83%9e%e3%83%bc%e3%82%b3%e3%83%9f%e3%83%a5%e3%83%8b%e3%82%b1%e3%83%bc%e3%82%b7%e3%83%a7%e3%83%b3%e3%82%ba%e5%bd%b9%e5%93%a1%e4%bc%9a-3/
END:VEVENT
BEGIN:VEVENT
DTSTART;VALUE=DATE-TIME:20170427T163000
DTEND;VALUE=DATE-TIME:20170427T190000
DTSTAMP:20260422T101016
CREATED:20170224T105834
LAST-MODIFIED:20170224T110209
UID:64325-1493310600-1493319600@http://www.shoninsha.co.jp
SUMMARY:サミット方針説明会
DESCRIPTION:
URL:http://www.shoninsha.co.jp/event/%e3%82%b5%e3%83%9f%e3%83%83%e3%83%88%e6%96%b9%e9%87%9d%e8%aa%ac%e6%98%8e%e4%bc%9a/
END:VEVENT
BEGIN:VEVENT
DTSTART;VALUE=DATE-TIME:
DTEND;VALUE=DATE-TIME:
DTSTAMP:20260422T101016
CREATED:0
LAST-MODIFIED:0
UID:0--@http://www.shoninsha.co.jp
SUMMARY:
DESCRIPTION:
URL:
END:VEVENT
END:VCALENDAR