BEGIN:VCALENDAR
VERSION:2.0
PRODID:-//商人舎 - ECPv3.7//NONSGML v1.0//EN
CALSCALE:GREGORIAN
METHOD:PUBLISH
X-WR-CALNAME:商人舎
X-ORIGINAL-URL:http://www.shoninsha.co.jp
X-WR-CALDESC:Events for 商人舎
X-WR-TIMEZONE:Asia/Tokyo
BEGIN:VEVENT
DTSTART;VALUE=DATE:20170601
DTEND;VALUE=DATE:20170606
DTSTAMP:20260422T130623
CREATED:20170224T111646
LAST-MODIFIED:20170224T111646
UID:64339-1496275200-1496707200@http://www.shoninsha.co.jp
SUMMARY:ベトナム視察ツアー
DESCRIPTION:
URL:http://www.shoninsha.co.jp/event/%e3%83%99%e3%83%88%e3%83%8a%e3%83%a0%e8%a6%96%e5%af%9f%e3%83%84%e3%82%a2%e3%83%bc/
END:VEVENT
BEGIN:VEVENT
DTSTART;VALUE=DATE-TIME:20170601T150000
DTEND;VALUE=DATE-TIME:20170601T210000
DTSTAMP:20260422T130623
CREATED:20170523T110711
LAST-MODIFIED:20170523T110711
UID:67380-1496329200-1496350800@http://www.shoninsha.co.jp
SUMMARY:日本VC協会全国大会
DESCRIPTION:
URL:http://www.shoninsha.co.jp/event/%e6%97%a5%e6%9c%acvc%e5%8d%94%e4%bc%9a%e5%85%a8%e5%9b%bd%e5%a4%a7%e4%bc%9a/
END:VEVENT
BEGIN:VEVENT
DTSTART;VALUE=DATE-TIME:
DTEND;VALUE=DATE-TIME:
DTSTAMP:20260422T130623
CREATED:0
LAST-MODIFIED:0
UID:0--@http://www.shoninsha.co.jp
SUMMARY:
DESCRIPTION:
URL:
END:VEVENT
END:VCALENDAR