BEGIN:VCALENDAR
VERSION:2.0
PRODID:-//商人舎 - ECPv3.7//NONSGML v1.0//EN
CALSCALE:GREGORIAN
METHOD:PUBLISH
X-WR-CALNAME:商人舎
X-ORIGINAL-URL:http://www.shoninsha.co.jp
X-WR-CALDESC:Events for 商人舎
X-WR-TIMEZONE:Asia/Tokyo
BEGIN:VEVENT
DTSTART;VALUE=DATE-TIME:20170810T110000
DTEND;VALUE=DATE-TIME:20170810T110000
DTSTAMP:20260422T160116
CREATED:20170804T173659
LAST-MODIFIED:20170804T173659
UID:70396-1502362800-1502362800@http://www.shoninsha.co.jp
SUMMARY:第一屋製パン役員会
DESCRIPTION:
URL:http://www.shoninsha.co.jp/event/%e7%ac%ac%e4%b8%80%e5%b1%8b%e8%a3%bd%e3%83%91%e3%83%b3%e5%bd%b9%e5%93%a1%e4%bc%9a-8/
END:VEVENT
BEGIN:VEVENT
DTSTART;VALUE=DATE-TIME:20170810T150000
DTEND;VALUE=DATE-TIME:20170810T160000
DTSTAMP:20260422T160116
CREATED:20170804T173805
LAST-MODIFIED:20170804T173805
UID:70397-1502377200-1502380800@http://www.shoninsha.co.jp
SUMMARY:紀文食品
DESCRIPTION:
URL:http://www.shoninsha.co.jp/event/%e7%b4%80%e6%96%87%e9%a3%9f%e5%93%81/
END:VEVENT
BEGIN:VEVENT
DTSTART;VALUE=DATE-TIME:
DTEND;VALUE=DATE-TIME:
DTSTAMP:20260422T160116
CREATED:0
LAST-MODIFIED:0
UID:0--@http://www.shoninsha.co.jp
SUMMARY:
DESCRIPTION:
URL:
END:VEVENT
END:VCALENDAR