BEGIN:VCALENDAR
VERSION:2.0
PRODID:-//商人舎 - ECPv3.7//NONSGML v1.0//EN
CALSCALE:GREGORIAN
METHOD:PUBLISH
X-WR-CALNAME:商人舎
X-ORIGINAL-URL:http://www.shoninsha.co.jp
X-WR-CALDESC:Events for 商人舎
X-WR-TIMEZONE:Asia/Tokyo
BEGIN:VEVENT
DTSTART;VALUE=DATE-TIME:20171206T090000
DTEND;VALUE=DATE-TIME:20171206T120000
DTSTAMP:20260422T220518
CREATED:20170224T115431
LAST-MODIFIED:20170224T115431
UID:64373-1512550800-1512561600@http://www.shoninsha.co.jp
SUMMARY:万代知識商人大学アメリカ視察報告会
DESCRIPTION:
URL:http://www.shoninsha.co.jp/event/%e4%b8%87%e4%bb%a3%e7%9f%a5%e8%ad%98%e5%95%86%e4%ba%ba%e5%a4%a7%e5%ad%a6%e3%82%a2%e3%83%a1%e3%83%aa%e3%82%ab%e8%a6%96%e5%af%9f%e5%a0%b1%e5%91%8a%e4%bc%9a/
END:VEVENT
BEGIN:VEVENT
DTSTART;VALUE=DATE-TIME:20171206T130000
DTEND;VALUE=DATE-TIME:20171206T200000
DTSTAMP:20260422T220518
CREATED:20170224T115511
LAST-MODIFIED:20170224T115511
UID:64374-1512565200-1512590400@http://www.shoninsha.co.jp
SUMMARY:MDD会アメリカ視察報告会
DESCRIPTION:
URL:http://www.shoninsha.co.jp/event/mdd%e4%bc%9a%e3%82%a2%e3%83%a1%e3%83%aa%e3%82%ab%e8%a6%96%e5%af%9f%e5%a0%b1%e5%91%8a%e4%bc%9a/
END:VEVENT
BEGIN:VEVENT
DTSTART;VALUE=DATE-TIME:
DTEND;VALUE=DATE-TIME:
DTSTAMP:20260422T220518
CREATED:0
LAST-MODIFIED:0
UID:0--@http://www.shoninsha.co.jp
SUMMARY:
DESCRIPTION:
URL:
END:VEVENT
END:VCALENDAR