BEGIN:VCALENDAR
VERSION:2.0
PRODID:-//商人舎 - ECPv3.7//NONSGML v1.0//EN
CALSCALE:GREGORIAN
METHOD:PUBLISH
X-WR-CALNAME:商人舎
X-ORIGINAL-URL:http://www.shoninsha.co.jp
X-WR-CALDESC:Events for 商人舎
X-WR-TIMEZONE:Asia/Tokyo
BEGIN:VEVENT
DTSTART;VALUE=DATE-TIME:20180111T023000
DTEND;VALUE=DATE-TIME:20180111T180000
DTSTAMP:20260422T233039
CREATED:20180118T155724
LAST-MODIFIED:20180118T155724
UID:76476-1515637800-1515693600@http://www.shoninsha.co.jp
SUMMARY:日本ボランタリーチェーン協会賀詞交歓会
DESCRIPTION:ホテルインターコンチネンタル東京ベイ    14：30-16：00　第1部　新春記念講演  　「シリコンバレー発　技術革新と流通最新事情」齋藤洋平氏  16：30-18：00　賀詞交歓会  
URL:http://www.shoninsha.co.jp/event/%e6%97%a5%e6%9c%ac%e3%83%9c%e3%83%a9%e3%83%b3%e3%82%bf%e3%83%aa%e3%83%bc%e3%83%81%e3%82%a7%e3%83%bc%e3%83%b3%e5%8d%94%e4%bc%9a%e8%b3%80%e8%a9%9e%e4%ba%a4%e6%ad%93%e4%bc%9a/
END:VEVENT
BEGIN:VEVENT
DTSTART;VALUE=DATE-TIME:20180111T130000
DTEND;VALUE=DATE-TIME:20180111T193000
DTSTAMP:20260422T233039
CREATED:20180118T155536
LAST-MODIFIED:20180118T155536
UID:76473-1515675600-1515699000@http://www.shoninsha.co.jp
SUMMARY:オール日本スーパーマーケット協会新年トップ経営研修会
DESCRIPTION:横浜ベイホテル東急  　B2F　クイーンズグランドボールルーム    12：15受付開始  13：00～14：15　特別講演  14：40～16：10　パネルディスカッション  16：10～16：25　新入会員紹介  17：30～19：30　会長挨拶・夕食懇親会  
URL:http://www.shoninsha.co.jp/event/%e3%82%aa%e3%83%bc%e3%83%ab%e6%97%a5%e6%9c%ac%e3%82%b9%e3%83%bc%e3%83%91%e3%83%bc%e3%83%9e%e3%83%bc%e3%82%b1%e3%83%83%e3%83%88%e5%8d%94%e4%bc%9a%e6%96%b0%e5%b9%b4%e3%83%88%e3%83%83%e3%83%97%e7%b5%8c-2/
END:VEVENT
BEGIN:VEVENT
DTSTART;VALUE=DATE-TIME:
DTEND;VALUE=DATE-TIME:
DTSTAMP:20260422T233039
CREATED:0
LAST-MODIFIED:0
UID:0--@http://www.shoninsha.co.jp
SUMMARY:
DESCRIPTION:
URL:
END:VEVENT
END:VCALENDAR