BEGIN:VCALENDAR
VERSION:2.0
PRODID:-//商人舎 - ECPv3.7//NONSGML v1.0//EN
CALSCALE:GREGORIAN
METHOD:PUBLISH
X-WR-CALNAME:商人舎
X-ORIGINAL-URL:http://www.shoninsha.co.jp
X-WR-CALDESC:Events for 商人舎
X-WR-TIMEZONE:Asia/Tokyo
BEGIN:VEVENT
DTSTART;VALUE=DATE-TIME:20180123T130000
DTEND;VALUE=DATE-TIME:20180123T140000
DTSTAMP:20260422T233049
CREATED:20180118T154420
LAST-MODIFIED:20180118T154420
UID:76467-1516712400-1516716000@http://www.shoninsha.co.jp
SUMMARY:スーパーマーケット統計発表会
DESCRIPTION:
URL:http://www.shoninsha.co.jp/event/%e3%82%b9%e3%83%bc%e3%83%91%e3%83%bc%e3%83%9e%e3%83%bc%e3%82%b1%e3%83%83%e3%83%88%e7%b5%b1%e8%a8%88%e7%99%ba%e8%a1%a8%e4%bc%9a/
END:VEVENT
BEGIN:VEVENT
DTSTART;VALUE=DATE-TIME:20180123T150000
DTEND;VALUE=DATE-TIME:20180123T160000
DTSTAMP:20260422T233049
CREATED:20180118T154242
LAST-MODIFIED:20180118T154242
UID:76466-1516719600-1516723200@http://www.shoninsha.co.jp
SUMMARY:商人舎magazine定例Web会議
DESCRIPTION:
URL:http://www.shoninsha.co.jp/event/%e5%95%86%e4%ba%ba%e8%88%8emagazine%e5%ae%9a%e4%be%8bweb%e4%bc%9a%e8%ad%b0/
END:VEVENT
BEGIN:VEVENT
DTSTART;VALUE=DATE-TIME:
DTEND;VALUE=DATE-TIME:
DTSTAMP:20260422T233049
CREATED:0
LAST-MODIFIED:0
UID:0--@http://www.shoninsha.co.jp
SUMMARY:
DESCRIPTION:
URL:
END:VEVENT
END:VCALENDAR