BEGIN:VCALENDAR
VERSION:2.0
PRODID:-//商人舎 - ECPv3.7//NONSGML v1.0//EN
CALSCALE:GREGORIAN
METHOD:PUBLISH
X-WR-CALNAME:商人舎
X-ORIGINAL-URL:http://www.shoninsha.co.jp
X-WR-CALDESC:Events for 商人舎
X-WR-TIMEZONE:Asia/Tokyo
BEGIN:VEVENT
DTSTART;VALUE=DATE:20180125
DTEND;VALUE=DATE:20180203
DTSTAMP:20260422T232914
CREATED:20180118T154614
LAST-MODIFIED:20180118T175332
UID:76469-1516838400-1517616000@http://www.shoninsha.co.jp
SUMMARY:月刊商人舎2月号入稿責了業務
DESCRIPTION:
URL:http://www.shoninsha.co.jp/event/%e6%9c%88%e5%88%8a%e5%95%86%e4%ba%ba%e8%88%8e12%e6%9c%88%e5%8f%b7%e5%85%a5%e7%a8%bf%e8%b2%ac%e4%ba%86%e6%a5%ad%e5%8b%99/
END:VEVENT
BEGIN:VEVENT
DTSTART;VALUE=DATE-TIME:20180130T110000
DTEND;VALUE=DATE-TIME:20180130T110000
DTSTAMP:20260422T232914
CREATED:20180118T153641
LAST-MODIFIED:20180118T153641
UID:76454-1517310000-1517310000@http://www.shoninsha.co.jp
SUMMARY:第一屋製パン(株)取締役会
DESCRIPTION:
URL:http://www.shoninsha.co.jp/event/%e7%ac%ac%e4%b8%80%e5%b1%8b%e8%a3%bd%e3%83%91%e3%83%b3%e6%a0%aa%e5%8f%96%e7%b7%a0%e5%bd%b9%e4%bc%9a/
END:VEVENT
BEGIN:VEVENT
DTSTART;VALUE=DATE-TIME:
DTEND;VALUE=DATE-TIME:
DTSTAMP:20260422T232914
CREATED:0
LAST-MODIFIED:0
UID:0--@http://www.shoninsha.co.jp
SUMMARY:
DESCRIPTION:
URL:
END:VEVENT
END:VCALENDAR