BEGIN:VCALENDAR
VERSION:2.0
PRODID:-//商人舎 - ECPv3.7//NONSGML v1.0//EN
CALSCALE:GREGORIAN
METHOD:PUBLISH
X-WR-CALNAME:商人舎
X-ORIGINAL-URL:http://www.shoninsha.co.jp
X-WR-CALDESC:Events for 商人舎
X-WR-TIMEZONE:Asia/Tokyo
BEGIN:VEVENT
DTSTART;VALUE=DATE:20180423
DTEND;VALUE=DATE:20180503
DTSTAMP:20260423T034400
CREATED:20180118T211106
LAST-MODIFIED:20180118T211106
UID:76523-1524441600-1525305600@http://www.shoninsha.co.jp
SUMMARY:月刊商人舎5月号入稿責了業務
DESCRIPTION:
URL:http://www.shoninsha.co.jp/event/%e6%9c%88%e5%88%8a%e5%95%86%e4%ba%ba%e8%88%8e5%e6%9c%88%e5%8f%b7%e5%85%a5%e7%a8%bf%e8%b2%ac%e4%ba%86%e6%a5%ad%e5%8b%99/
END:VEVENT
BEGIN:VEVENT
DTSTART;VALUE=DATE:20180429
DTEND;VALUE=DATE:20180430
DTSTAMP:20260423T034400
CREATED:20170224T120438
LAST-MODIFIED:20170224T120438
UID:64383-1524960000-1525046400@http://www.shoninsha.co.jp
SUMMARY:昭和の日
DESCRIPTION:
URL:http://www.shoninsha.co.jp/event/%e6%98%ad%e5%92%8c%e3%81%ae%e6%97%a5-3/
END:VEVENT
BEGIN:VEVENT
DTSTART;VALUE=DATE-TIME:
DTEND;VALUE=DATE-TIME:
DTSTAMP:20260423T034400
CREATED:0
LAST-MODIFIED:0
UID:0--@http://www.shoninsha.co.jp
SUMMARY:
DESCRIPTION:
URL:
END:VEVENT
END:VCALENDAR