BEGIN:VCALENDAR
VERSION:2.0
PRODID:-//商人舎 - ECPv3.7//NONSGML v1.0//EN
CALSCALE:GREGORIAN
METHOD:PUBLISH
X-WR-CALNAME:商人舎
X-ORIGINAL-URL:http://www.shoninsha.co.jp
X-WR-CALDESC:Events for 商人舎
X-WR-TIMEZONE:Asia/Tokyo
BEGIN:VEVENT
DTSTART;VALUE=DATE:20180811
DTEND;VALUE=DATE:20180817
DTSTAMP:20260423T092852
CREATED:20180730T123315
LAST-MODIFIED:20180730T123315
UID:83389-1533945600-1534464000@http://www.shoninsha.co.jp
SUMMARY:㈱商人舎夏季休業
DESCRIPTION:
URL:http://www.shoninsha.co.jp/event/%e3%88%b1%e5%95%86%e4%ba%ba%e8%88%8e%e5%a4%8f%e5%ad%a3%e4%bc%91%e6%a5%ad/
END:VEVENT
BEGIN:VEVENT
DTSTART;VALUE=DATE-TIME:20180814T110000
DTEND;VALUE=DATE-TIME:20180814T110000
DTSTAMP:20260423T092852
CREATED:20180730T122653
LAST-MODIFIED:20180730T122653
UID:83383-1534244400-1534244400@http://www.shoninsha.co.jp
SUMMARY:第一屋製パン取締役会
DESCRIPTION:
URL:http://www.shoninsha.co.jp/event/%e7%ac%ac%e4%b8%80%e5%b1%8b%e8%a3%bd%e3%83%91%e3%83%b3%e5%8f%96%e7%b7%a0%e5%bd%b9%e4%bc%9a-4/
END:VEVENT
BEGIN:VEVENT
DTSTART;VALUE=DATE-TIME:
DTEND;VALUE=DATE-TIME:
DTSTAMP:20260423T092852
CREATED:0
LAST-MODIFIED:0
UID:0--@http://www.shoninsha.co.jp
SUMMARY:
DESCRIPTION:
URL:
END:VEVENT
END:VCALENDAR