BEGIN:VCALENDAR
VERSION:2.0
PRODID:-//商人舎 - ECPv3.7//NONSGML v1.0//EN
CALSCALE:GREGORIAN
METHOD:PUBLISH
X-WR-CALNAME:商人舎
X-ORIGINAL-URL:http://www.shoninsha.co.jp
X-WR-CALDESC:Events for 商人舎
X-WR-TIMEZONE:Asia/Tokyo
BEGIN:VEVENT
DTSTART;VALUE=DATE:20181003
DTEND;VALUE=DATE:20181010
DTSTAMP:20260423T115747
CREATED:20180118T214305
LAST-MODIFIED:20180118T214305
UID:76542-1538524800-1539129600@http://www.shoninsha.co.jp
SUMMARY:イオンリテール海外研修会
DESCRIPTION:
URL:http://www.shoninsha.co.jp/event/%e3%82%a4%e3%82%aa%e3%83%b3%e3%83%aa%e3%83%86%e3%83%bc%e3%83%ab%e6%b5%b7%e5%a4%96%e7%a0%94%e4%bf%ae%e4%bc%9a/
END:VEVENT
BEGIN:VEVENT
DTSTART;VALUE=DATE:20181008
DTEND;VALUE=DATE:20181009
DTSTAMP:20260423T115747
CREATED:20170224T121847
LAST-MODIFIED:20170224T121847
UID:64395-1538956800-1539043200@http://www.shoninsha.co.jp
SUMMARY:体育の日
DESCRIPTION:
URL:http://www.shoninsha.co.jp/event/%e4%bd%93%e8%82%b2%e3%81%ae%e6%97%a5/
END:VEVENT
BEGIN:VEVENT
DTSTART;VALUE=DATE-TIME:
DTEND;VALUE=DATE-TIME:
DTSTAMP:20260423T115747
CREATED:0
LAST-MODIFIED:0
UID:0--@http://www.shoninsha.co.jp
SUMMARY:
DESCRIPTION:
URL:
END:VEVENT
END:VCALENDAR