BEGIN:VCALENDAR
VERSION:2.0
PRODID:-//商人舎 - ECPv3.7//NONSGML v1.0//EN
CALSCALE:GREGORIAN
METHOD:PUBLISH
X-WR-CALNAME:商人舎
X-ORIGINAL-URL:http://www.shoninsha.co.jp
X-WR-CALDESC:Events for 商人舎
X-WR-TIMEZONE:Asia/Tokyo
BEGIN:VEVENT
DTSTART;VALUE=DATE:20181025
DTEND;VALUE=DATE:20181103
DTSTAMP:20260423T121011
CREATED:20180118T214601
LAST-MODIFIED:20180118T214601
UID:76544-1540425600-1541203200@http://www.shoninsha.co.jp
SUMMARY:月刊商人舎11月号入稿責了業務
DESCRIPTION:
URL:http://www.shoninsha.co.jp/event/%e6%9c%88%e5%88%8a%e5%95%86%e4%ba%ba%e8%88%8e11%e6%9c%88%e5%8f%b7%e5%85%a5%e7%a8%bf%e8%b2%ac%e4%ba%86%e6%a5%ad%e5%8b%99/
END:VEVENT
BEGIN:VEVENT
DTSTART;VALUE=DATE-TIME:20181026T190000
DTEND;VALUE=DATE-TIME:20181026T210000
DTSTAMP:20260423T121011
CREATED:20181030T164917
LAST-MODIFIED:20181030T164917
UID:86992-1540580400-1540587600@http://www.shoninsha.co.jp
SUMMARY:イオンリテール米国研修同窓会
DESCRIPTION:
URL:http://www.shoninsha.co.jp/event/%e3%82%a4%e3%82%aa%e3%83%b3%e3%83%aa%e3%83%86%e3%83%bc%e3%83%ab%e7%b1%b3%e5%9b%bd%e7%a0%94%e4%bf%ae%e5%90%8c%e7%aa%93%e4%bc%9a/
END:VEVENT
BEGIN:VEVENT
DTSTART;VALUE=DATE-TIME:
DTEND;VALUE=DATE-TIME:
DTSTAMP:20260423T121011
CREATED:0
LAST-MODIFIED:0
UID:0--@http://www.shoninsha.co.jp
SUMMARY:
DESCRIPTION:
URL:
END:VEVENT
END:VCALENDAR