BEGIN:VCALENDAR
VERSION:2.0
PRODID:-//商人舎 - ECPv3.7//NONSGML v1.0//EN
CALSCALE:GREGORIAN
METHOD:PUBLISH
X-WR-CALNAME:商人舎
X-ORIGINAL-URL:http://www.shoninsha.co.jp
X-WR-CALDESC:Events for 商人舎
X-WR-TIMEZONE:Asia/Tokyo
BEGIN:VEVENT
DTSTART;VALUE=DATE:20181113
DTEND;VALUE=DATE:20181118
DTSTAMP:20260423T134305
CREATED:20180313T113455
LAST-MODIFIED:20181030T163729
UID:77921-1542067200-1542499200@http://www.shoninsha.co.jp
SUMMARY:万代知識商人大学アメリカ視察
DESCRIPTION:
URL:http://www.shoninsha.co.jp/event/%e4%b8%87%e4%bb%a3%e7%9f%a5%e8%ad%98%e5%95%86%e4%ba%ba%e5%a4%a7%e5%ad%a6%e3%82%a2%e3%83%a1%e3%83%aa%e3%82%ab%e8%a6%96%e5%af%9f-2/
LOCATION:サンフランシスコ, アメリカ
END:VEVENT
BEGIN:VEVENT
DTSTART;VALUE=DATE:20181117
DTEND;VALUE=DATE:20181122
DTSTAMP:20260423T134305
CREATED:20180313T113649
LAST-MODIFIED:20181030T163757
UID:77923-1542412800-1542844800@http://www.shoninsha.co.jp
SUMMARY:商人舎USA視察研修会　ビギナーズコースinハワイ
DESCRIPTION:
URL:http://www.shoninsha.co.jp/event/%e5%95%86%e4%ba%ba%e8%88%8eusa%e8%a6%96%e5%af%9f%e7%a0%94%e4%bf%ae%e4%bc%9a%e3%80%80%e3%83%93%e3%82%ae%e3%83%8a%e3%83%bc%e3%82%ba%e3%82%b3%e3%83%bc%e3%82%b9in%e3%83%8f%e3%83%af%e3%82%a4/
END:VEVENT
BEGIN:VEVENT
DTSTART;VALUE=DATE-TIME:
DTEND;VALUE=DATE-TIME:
DTSTAMP:20260423T134305
CREATED:0
LAST-MODIFIED:0
UID:0--@http://www.shoninsha.co.jp
SUMMARY:
DESCRIPTION:
URL:
END:VEVENT
END:VCALENDAR