BEGIN:VCALENDAR
VERSION:2.0
PRODID:-//商人舎 - ECPv3.7//NONSGML v1.0//EN
CALSCALE:GREGORIAN
METHOD:PUBLISH
X-WR-CALNAME:商人舎
X-ORIGINAL-URL:http://www.shoninsha.co.jp
X-WR-CALDESC:Events for 商人舎
X-WR-TIMEZONE:Asia/Tokyo
BEGIN:VEVENT
DTSTART;VALUE=DATE:20181122
DTEND;VALUE=DATE:20181204
DTSTAMP:20260423T132658
CREATED:20180118T215652
LAST-MODIFIED:20181030T170529
UID:76550-1542844800-1543881600@http://www.shoninsha.co.jp
SUMMARY:月刊商人舎12月号入稿編集業務
DESCRIPTION:
URL:http://www.shoninsha.co.jp/event/%e6%9c%88%e5%88%8a%e5%95%86%e4%ba%ba%e8%88%8e12%e6%9c%88%e5%8f%b7%e5%85%a5%e7%a8%bf%e8%b2%ac%e4%ba%86%e6%a5%ad%e5%8b%99-3/
END:VEVENT
BEGIN:VEVENT
DTSTART;VALUE=DATE-TIME:20181122T130000
DTEND;VALUE=DATE-TIME:20181122T153000
DTSTAMP:20260423T132658
CREATED:20181030T172052
LAST-MODIFIED:20181030T172052
UID:87000-1542891600-1542900600@http://www.shoninsha.co.jp
SUMMARY:パナソニック産機システムズ主催セミナー『食品小売業の課題を解決』(名古屋)
DESCRIPTION:
URL:http://www.shoninsha.co.jp/event/%e3%83%91%e3%83%8a%e3%82%bd%e3%83%8b%e3%83%83%e3%82%af%e7%94%a3%e6%a9%9f%e3%82%b7%e3%82%b9%e3%83%86%e3%83%a0%e3%82%ba%e4%b8%bb%e5%82%ac%e3%82%bb%e3%83%9f%e3%83%8a%e3%83%bc%e3%80%8e%e9%a3%9f%e5%93%81/
END:VEVENT
BEGIN:VEVENT
DTSTART;VALUE=DATE-TIME:
DTEND;VALUE=DATE-TIME:
DTSTAMP:20260423T132658
CREATED:0
LAST-MODIFIED:0
UID:0--@http://www.shoninsha.co.jp
SUMMARY:
DESCRIPTION:
URL:
END:VEVENT
END:VCALENDAR