BEGIN:VCALENDAR
VERSION:2.0
PRODID:-//商人舎 - ECPv3.7//NONSGML v1.0//EN
CALSCALE:GREGORIAN
METHOD:PUBLISH
X-WR-CALNAME:商人舎
X-ORIGINAL-URL:http://www.shoninsha.co.jp
X-WR-CALDESC:Events for 商人舎
X-WR-TIMEZONE:Asia/Tokyo
BEGIN:VEVENT
DTSTART;VALUE=DATE:20181217
DTEND;VALUE=DATE:20181226
DTSTAMP:20260423T145236
CREATED:20180118T214908
LAST-MODIFIED:20190107T113134
UID:76546-1545004800-1545782400@http://www.shoninsha.co.jp
SUMMARY:月刊商人舎1月号入稿編集業務
DESCRIPTION:
URL:http://www.shoninsha.co.jp/event/%e6%9c%88%e5%88%8a%e5%95%86%e4%ba%ba%e8%88%8e1%e6%9c%88%e5%8f%b7%e5%85%a5%e7%a8%bf%e8%b2%ac%e4%ba%86%e6%a5%ad%e5%8b%99/
END:VEVENT
BEGIN:VEVENT
DTSTART;VALUE=DATE:20181223
DTEND;VALUE=DATE:20181224
DTSTAMP:20260423T145236
CREATED:20170224T122129
LAST-MODIFIED:20170224T122129
UID:64399-1545523200-1545609600@http://www.shoninsha.co.jp
SUMMARY:天皇誕生日
DESCRIPTION:
URL:http://www.shoninsha.co.jp/event/%e5%a4%a9%e7%9a%87%e8%aa%95%e7%94%9f%e6%97%a5-3/
END:VEVENT
BEGIN:VEVENT
DTSTART;VALUE=DATE-TIME:
DTEND;VALUE=DATE-TIME:
DTSTAMP:20260423T145236
CREATED:0
LAST-MODIFIED:0
UID:0--@http://www.shoninsha.co.jp
SUMMARY:
DESCRIPTION:
URL:
END:VEVENT
END:VCALENDAR