BEGIN:VCALENDAR
VERSION:2.0
PRODID:-//商人舎 - ECPv3.7//NONSGML v1.0//EN
CALSCALE:GREGORIAN
METHOD:PUBLISH
X-WR-CALNAME:商人舎
X-ORIGINAL-URL:http://www.shoninsha.co.jp
X-WR-CALDESC:Events for 商人舎
X-WR-TIMEZONE:Asia/Tokyo
BEGIN:VEVENT
DTSTART;VALUE=DATE-TIME:20190110T130000
DTEND;VALUE=DATE-TIME:20190110T193000
DTSTAMP:20260423T161845
CREATED:20181210T145229
LAST-MODIFIED:20190102T195652
UID:96154-1547125200-1547148600@http://www.shoninsha.co.jp
SUMMARY:AJS新年トップ研修会
DESCRIPTION:
URL:http://www.shoninsha.co.jp/event/%ef%bd%81%ef%bd%8a%ef%bd%93%e6%96%b0%e5%b9%b4%e4%bc%9a/
END:VEVENT
BEGIN:VEVENT
DTSTART;VALUE=DATE-TIME:20190110T143000
DTEND;VALUE=DATE-TIME:20190110T180000
DTSTAMP:20260423T161845
CREATED:20181210T145347
LAST-MODIFIED:20181210T145347
UID:96156-1547130600-1547143200@http://www.shoninsha.co.jp
SUMMARY:ＶＣ協会新春賀詞交歓
DESCRIPTION:
URL:http://www.shoninsha.co.jp/event/%ef%bd%96%ef%bd%83%e5%8d%94%e4%bc%9a%e6%96%b0%e6%98%a5%e8%b3%80%e8%a9%9e%e4%ba%a4%e6%ad%93/
END:VEVENT
BEGIN:VEVENT
DTSTART;VALUE=DATE-TIME:
DTEND;VALUE=DATE-TIME:
DTSTAMP:20260423T161845
CREATED:0
LAST-MODIFIED:0
UID:0--@http://www.shoninsha.co.jp
SUMMARY:
DESCRIPTION:
URL:
END:VEVENT
END:VCALENDAR