BEGIN:VCALENDAR
VERSION:2.0
PRODID:-//商人舎 - ECPv3.7//NONSGML v1.0//EN
CALSCALE:GREGORIAN
METHOD:PUBLISH
X-WR-CALNAME:商人舎
X-ORIGINAL-URL:http://www.shoninsha.co.jp
X-WR-CALDESC:Events for 商人舎
X-WR-TIMEZONE:Asia/Tokyo
BEGIN:VEVENT
DTSTART;VALUE=DATE:20190115
DTEND;VALUE=DATE:20190120
DTSTAMP:20260423T161910
CREATED:20181210T145658
LAST-MODIFIED:20190107T102717
UID:96165-1547510400-1547942400@http://www.shoninsha.co.jp
SUMMARY:スーパーマーケット海外勉強会
DESCRIPTION:
URL:http://www.shoninsha.co.jp/event/ajs%e3%82%b9%e3%83%bc%e3%83%91%e3%83%bc%e3%83%9e%e3%83%bc%e3%82%b1%e3%83%83%e3%83%88%e5%8b%89%e5%bc%b7%e4%bc%9a/
END:VEVENT
BEGIN:VEVENT
DTSTART;VALUE=DATE-TIME:20190118T173000
DTEND;VALUE=DATE-TIME:20190118T193000
DTSTAMP:20260423T161910
CREATED:20190102T200607
LAST-MODIFIED:20190102T200648
UID:96915-1547832600-1547839800@http://www.shoninsha.co.jp
SUMMARY:日本チェーンストア協会新年賀詞交換会
DESCRIPTION:
URL:http://www.shoninsha.co.jp/event/%e6%97%a5%e6%9c%ac%e3%83%81%e3%82%a7%e3%83%bc%e3%83%b3%e3%82%b9%e3%83%88%e3%82%a2%e5%8d%94%e4%bc%9a%e6%96%b0%e5%b9%b4%e8%b3%80%e8%a9%9e%e4%ba%a4%e6%8f%9b%e4%bc%9a-2/
END:VEVENT
BEGIN:VEVENT
DTSTART;VALUE=DATE-TIME:
DTEND;VALUE=DATE-TIME:
DTSTAMP:20260423T161910
CREATED:0
LAST-MODIFIED:0
UID:0--@http://www.shoninsha.co.jp
SUMMARY:
DESCRIPTION:
URL:
END:VEVENT
END:VCALENDAR