BEGIN:VCALENDAR
VERSION:2.0
PRODID:-//商人舎 - ECPv3.7//NONSGML v1.0//EN
CALSCALE:GREGORIAN
METHOD:PUBLISH
X-WR-CALNAME:商人舎
X-ORIGINAL-URL:http://www.shoninsha.co.jp
X-WR-CALDESC:Events for 商人舎
X-WR-TIMEZONE:Asia/Tokyo
BEGIN:VEVENT
DTSTART;VALUE=DATE:20190604
DTEND;VALUE=DATE:20190607
DTSTAMP:20260423T231256
CREATED:20181213T140445
LAST-MODIFIED:20181213T140445
UID:96309-1559606400-1559865600@http://www.shoninsha.co.jp
SUMMARY:商人舎ミドルマネジメント研修会
DESCRIPTION:
URL:http://www.shoninsha.co.jp/event/%e5%95%86%e4%ba%ba%e8%88%8e%e3%83%9f%e3%83%89%e3%83%ab%e3%83%9e%e3%83%8d%e3%82%b8%e3%83%a1%e3%83%b3%e3%83%88%e7%a0%94%e4%bf%ae%e4%bc%9a-3/
END:VEVENT
BEGIN:VEVENT
DTSTART;VALUE=DATE-TIME:20190605T100000
DTEND;VALUE=DATE-TIME:20190605T110000
DTSTAMP:20260423T231256
CREATED:20190116T131459
LAST-MODIFIED:20190116T131459
UID:97254-1559728800-1559732400@http://www.shoninsha.co.jp
SUMMARY:TRUE DATA[臨時]
DESCRIPTION:
URL:http://www.shoninsha.co.jp/event/true-data%e8%87%a8%e6%99%82/
END:VEVENT
BEGIN:VEVENT
DTSTART;VALUE=DATE-TIME:
DTEND;VALUE=DATE-TIME:
DTSTAMP:20260423T231256
CREATED:0
LAST-MODIFIED:0
UID:0--@http://www.shoninsha.co.jp
SUMMARY:
DESCRIPTION:
URL:
END:VEVENT
END:VCALENDAR