BEGIN:VCALENDAR
VERSION:2.0
PRODID:-//商人舎 - ECPv3.7//NONSGML v1.0//EN
CALSCALE:GREGORIAN
METHOD:PUBLISH
X-WR-CALNAME:商人舎
X-ORIGINAL-URL:http://www.shoninsha.co.jp
X-WR-CALDESC:Events for 商人舎
X-WR-TIMEZONE:Asia/Tokyo
BEGIN:VEVENT
DTSTART;VALUE=DATE:20190607
DTEND;VALUE=DATE:20190613
DTSTAMP:20260423T231213
CREATED:20181213T141057
LAST-MODIFIED:20190116T140653
UID:96310-1559865600-1560384000@http://www.shoninsha.co.jp
SUMMARY:MDD会ミラノ視察
DESCRIPTION:
URL:http://www.shoninsha.co.jp/event/mdd%e4%bc%9a%e3%82%a2%e3%83%a1%e3%83%aa%e3%82%ab%e8%a6%96%e5%af%9f-2/
END:VEVENT
BEGIN:VEVENT
DTSTART;VALUE=DATE-TIME:20190612T174500
DTEND;VALUE=DATE-TIME:20190612T190000
DTSTAMP:20260423T231213
CREATED:20190520T111917
LAST-MODIFIED:20190520T111956
UID:102378-1560361500-1560366000@http://www.shoninsha.co.jp
SUMMARY:生団連総会・パーティ
DESCRIPTION:
URL:http://www.shoninsha.co.jp/event/%e7%94%9f%e5%9b%a3%e9%80%a3%e7%b7%8f%e4%bc%9a%e3%83%bb%e3%83%91%e3%83%bc%e3%83%86%e3%82%a3/
END:VEVENT
BEGIN:VEVENT
DTSTART;VALUE=DATE-TIME:
DTEND;VALUE=DATE-TIME:
DTSTAMP:20260423T231213
CREATED:0
LAST-MODIFIED:0
UID:0--@http://www.shoninsha.co.jp
SUMMARY:
DESCRIPTION:
URL:
END:VEVENT
END:VCALENDAR