BEGIN:VCALENDAR
VERSION:2.0
PRODID:-//商人舎 - ECPv3.7//NONSGML v1.0//EN
CALSCALE:GREGORIAN
METHOD:PUBLISH
X-WR-CALNAME:商人舎
X-ORIGINAL-URL:http://www.shoninsha.co.jp
X-WR-CALDESC:Events for 商人舎
X-WR-TIMEZONE:Asia/Tokyo
BEGIN:VEVENT
DTSTART;VALUE=DATE:20260510
DTEND;VALUE=DATE:20260511
DTSTAMP:20260420T125955
CREATED:20260122T174626
LAST-MODIFIED:20260122T174626
UID:171509-1778371200-1778457600@http://www.shoninsha.co.jp
SUMMARY:月刊商人舎2026年5月号発刊
DESCRIPTION:
URL:http://www.shoninsha.co.jp/event/%e6%9c%88%e5%88%8a%e5%95%86%e4%ba%ba%e8%88%8e2026%e5%b9%b45%e6%9c%88%e5%8f%b7%e7%99%ba%e5%88%8a/
END:VEVENT
BEGIN:VEVENT
DTSTART;VALUE=DATE:20260510
DTEND;VALUE=DATE:20260517
DTSTAMP:20260420T125955
CREATED:20260122T174718
LAST-MODIFIED:20260122T174718
UID:171510-1778371200-1778976000@http://www.shoninsha.co.jp
SUMMARY:USA視察研修会(Basicコース)
DESCRIPTION:
URL:http://www.shoninsha.co.jp/event/usa%e8%a6%96%e5%af%9f%e7%a0%94%e4%bf%ae%e4%bc%9abasic%e3%82%b3%e3%83%bc%e3%82%b9/
END:VEVENT
BEGIN:VEVENT
DTSTART;VALUE=DATE:20260510
DTEND;VALUE=DATE:20260511
DTSTAMP:20260420T125955
CREATED:20260122T174743
LAST-MODIFIED:20260122T174743
UID:171511-1778371200-1778457600@http://www.shoninsha.co.jp
SUMMARY:★母の日
DESCRIPTION:
URL:http://www.shoninsha.co.jp/event/%e2%98%85%e6%af%8d%e3%81%ae%e6%97%a5/
END:VEVENT
BEGIN:VEVENT
DTSTART;VALUE=DATE-TIME:
DTEND;VALUE=DATE-TIME:
DTSTAMP:20260420T125955
CREATED:0
LAST-MODIFIED:0
UID:0--@http://www.shoninsha.co.jp
SUMMARY:
DESCRIPTION:
URL:
END:VEVENT
END:VCALENDAR