BEGIN:VCALENDAR
VERSION:2.0
PRODID:-//商人舎 - ECPv3.7//NONSGML v1.0//EN
CALSCALE:GREGORIAN
METHOD:PUBLISH
X-WR-CALNAME:商人舎
X-ORIGINAL-URL:http://www.shoninsha.co.jp
X-WR-CALDESC:Events for 商人舎
X-WR-TIMEZONE:Asia/Tokyo
BEGIN:VEVENT
DTSTART;VALUE=DATE:20260609
DTEND;VALUE=DATE:20260612
DTSTAMP:20260420T141740
CREATED:20260122T174907
LAST-MODIFIED:20260122T175020
UID:171513-1780963200-1781222400@http://www.shoninsha.co.jp
SUMMARY:第26回ミドルマネジメント研修会
DESCRIPTION:
URL:http://www.shoninsha.co.jp/event/%e7%ac%ac26%e5%9b%9e%e3%83%9f%e3%83%89%e3%83%ab%e3%83%9e%e3%83%8d%e3%82%b8%e3%83%a1%e3%83%b3%e3%83%88%e7%a0%94%e4%bf%ae%e4%bc%9a/
END:VEVENT
BEGIN:VEVENT
DTSTART;VALUE=DATE:20260610
DTEND;VALUE=DATE:20260611
DTSTAMP:20260420T141740
CREATED:20260122T175959
LAST-MODIFIED:20260122T175959
UID:171535-1781049600-1781136000@http://www.shoninsha.co.jp
SUMMARY:月刊商人舎2026年6月号発刊
DESCRIPTION:
URL:http://www.shoninsha.co.jp/event/%e6%9c%88%e5%88%8a%e5%95%86%e4%ba%ba%e8%88%8e2026%e5%b9%b46%e6%9c%88%e5%8f%b7%e7%99%ba%e5%88%8a/
END:VEVENT
BEGIN:VEVENT
DTSTART;VALUE=DATE-TIME:
DTEND;VALUE=DATE-TIME:
DTSTAMP:20260420T141740
CREATED:0
LAST-MODIFIED:0
UID:0--@http://www.shoninsha.co.jp
SUMMARY:
DESCRIPTION:
URL:
END:VEVENT
END:VCALENDAR